BEGIN:VCALENDAR
VERSION:2.0
PRODID:-//BestBrains Academy - SAFe training and Agile workshops - ECPv6.15.11//NONSGML v1.0//EN
CALSCALE:GREGORIAN
METHOD:PUBLISH
X-WR-CALNAME:BestBrains Academy - SAFe training and Agile workshops
X-ORIGINAL-URL:https://bestbrainsacademy.com
X-WR-CALDESC:Events for BestBrains Academy - SAFe training and Agile workshops
REFRESH-INTERVAL;VALUE=DURATION:PT1H
X-Robots-Tag:noindex
X-PUBLISHED-TTL:PT1H
BEGIN:VTIMEZONE
TZID:Atlantic/Azores
BEGIN:DAYLIGHT
TZOFFSETFROM:-0100
TZOFFSETTO:+0000
TZNAME:+00
DTSTART:20230326T010000
END:DAYLIGHT
BEGIN:STANDARD
TZOFFSETFROM:+0000
TZOFFSETTO:-0100
TZNAME:-01
DTSTART:20231029T010000
END:STANDARD
BEGIN:DAYLIGHT
TZOFFSETFROM:-0100
TZOFFSETTO:+0000
TZNAME:+00
DTSTART:20240331T010000
END:DAYLIGHT
BEGIN:STANDARD
TZOFFSETFROM:+0000
TZOFFSETTO:-0100
TZNAME:-01
DTSTART:20241027T010000
END:STANDARD
BEGIN:DAYLIGHT
TZOFFSETFROM:-0100
TZOFFSETTO:+0000
TZNAME:+00
DTSTART:20250330T010000
END:DAYLIGHT
BEGIN:STANDARD
TZOFFSETFROM:+0000
TZOFFSETTO:-0100
TZNAME:-01
DTSTART:20251026T010000
END:STANDARD
END:VTIMEZONE
BEGIN:VEVENT
DTSTART;TZID=Atlantic/Azores:20240603T090000
DTEND;TZID=Atlantic/Azores:20240604T170000
DTSTAMP:20260424T184428
CREATED:20231009T145759Z
LAST-MODIFIED:20241009T113233Z
UID:43074-1717405200-1717520400@bestbrainsacademy.com
SUMMARY:Mastering AI for Product Owners
DESCRIPTION:Mastering AI for Product Owners\n						Learn how you can use  AI tools in your agile workflows as a product owner\n						\n						Yes\, I want to sign up for the course!\n					\n				\n					\n				\n				\n				\n			\n				\n				\n			\n				\n				\n				\n				\n				\n				\n				\n				\n				\n				\n				\n				\n				\n				\n				\n				\n				\n				\nIntroduction\n  \nHow can you use generative AI like ChatGPT effectively as a Product Owner? \nThis course is designed to provide Product Owners with a foundational understanding of how to use generative AI technologies like ChatGPT in their daily workflows. We will dive deeper than just immediate AI benefits\, focusing on the strategic interaction between human decision-making and AI to support the product development cycles.  \nBy the end of the course\, participants will gain valuable insights into orchestrating an AI-powered refinement process and effectively integrating AI tools throughout their product management tasks.This course is highly interactive and with exercises in a product case or your content if possible.  \n			\n			\n				\n				\n				\n				\n			\n				\n				\n				\n				\n				\n				\n				\n				\n				\n				\n				Course content\n\nExplore user needs with AI\nBreak down Features and User Stories with AI\nWrite acceptance criteria with AI\nBacklog refinement process with AI Orchestration of agents\nCreate a vision\, prioritize\, forecasting and estimating with AI\n\nWe will also briefly explore how you can use AI in other areas\, like Stakeholder communication\, making data-driven decisions etc. \n			\n				\n				\n				\n				\n				Outcome:\nValuable insight into how generative AI (ChatGPT) can be used to assist in your daily work as a Product Owner\, and how AI tools can assist in many parts of your backlog management process\, not just writing stories and acceptance criteria. Learn how you can set up an AI-enabled refinement process with AI-agents. \n			\n			\n				\n				\n				\n				\n				\n				\n				\n				\n				\n				What will you get:\n\nA general understanding of generative AI (ChatGPT) and its use in agile product development.\nSkills to write and review user stories/test cases more effectively with Prompt Engineering for Product Owners.\nPreparation to lead your team through an AI-enabled refinement process with AI Orchestration of AI agents. \n\n			\n				\n				\n				\n				\n				\n			\n			\n				\n				\n				\n				\n			\n				\n				\n				\n				\n				\n				\n				\n				\n				\n				\n				PRACTICAL INFO\n \n			\n			\n				\n				\n				\n				\n				\n				\n				\n				\n				\n				\n	\n		Tickets	\n	\n	\n	\n	\n	\n	\n		The numbers below include tickets for this event already in your cart. Clicking "Get Tickets" will allow you to edit any existing attendee information as well as change ticket quantities.	\n\n\n\n	\n	\n		AI Practitioner (June 15-16\, 2026)\n	\n	\n		\n		\n				\n					kr.\n					7.000\,00\n				\n						\n\n			\n			Unlimited	\n		\n\n			\n			\n	Decrease ticket quantity for AI Practitioner (June 15-16\, 2026)\n	-\n		\n	\n		Quantity	\n	\n\n		\n	Increase ticket quantity for AI Practitioner (June 15-16\, 2026)\n	+\n		\n	\n				\n\n		\n	\n		Quantity:	\n	0\n\n	\n	\n			\n	Get Tickets\n	\n\n	\n		\n	\n\n		\n	\n\n		\n	\n\n	\n\n\n\n\n\n	\n\n \n\nIf you register for a class be aware that VAT will be added to the price above. EU delegates may recover the VAT depending on their circumstances.\n\n \n			\n				\n				\n				\n				\n				Cancellation Policy\n				\nIf you need to cancel more than 30 days before the course\, feel free to find someone to take your place. If you can't find a substitute within this time frame\, we’ll refund all but 1500 DKK to cover our administrative costs.\nIf you cancel within 30 days before the workshop\, we can't provide a refund. However\, you may find a substitute.\nNo matter when you need to cancel\, if you find a substitute\, please let us know ASAP who that person is. It's up to you to take care of payment arrangements with that person.\nRegistrants who are no shows\, are not eligible for a refund and must pay the full course fee.\nBestBrains reserves the right to cancel courses 7 business days prior to the scheduled date; in this case\, our liability is limited to a full refund of the session fee.\n\n			\n			\n				\n				\n				\n				\n			\n				\n				\n				\n				\n				\n				\n			\n				\n				\n				\n				\n			\n				\n				\n				\n				\n				\n				\n				\n				\n				\n				\n				Instructor\nJesper Thaning has been helping organizations adopting Lean and Agile methods for the last 15 years. \nThe experience covers the whole journey from idea to running code through conceptualization\, prioritization\, refinement\, development\, test\, continuous integration and deployment. Jesper has trained and coached a large number of teams and organizations on how to apply Lean and Agile principles and methodologies like Scrum\, Kanban and SAFe® to their specific situation. He has recent years focused a lot on the collaboration between business and IT-development – helping organizations to benefit from Lean and Agile methods through effective product ownership. \n			\n			\n				\n				\n				\n				\n				\n				\n				\n				\n				\n				\n			\n				\n				\n				\n				\n				Jesper Thaning Agile trainer and advisor\, SAFe Program Consultant (SPC)\, Partner in BestBrains Academy \n			\n			\n				\n				\n				\n				\n			\n				\n				\n				\n				\n				\n				\n				\n				\n				\n				\n				LOOKING FOR MORE THAN JUST ANOTHER AGILE CLASS?\nThen you’ve found the right place. We want to take Agile training to the next level and believe that effective learning should be just as fun\, interactive\, and inspiring as serious business and hard work. \n			\n			\n				\n				\n				\n				\n			\n				\n				\n				\n				\n				\n				\n				\n				\n				\n				\n				\n				\n			\n			\n				\n				\n				\n				\n				\n				\n				\n				\n				\n				\n				\n					Thank you for being such wonderful hosts – absolutely fantastic environment (+ delicious food) to support the learnings.- Sending my husband to the course asap! \n					Mia Golan\n					Nordea \n				\n			\n			\n				\n				\n				\n				\n			\n				\n				\n			\n				\n				\n				\n				\n				\n				\n				\n				\n				\n				\n				\n				\n					\n					\n						\n						\n						Learn to use generative AI in your role as a Product Owner. Discover how AI tools can support your daily tasks with AI agents.\n						\n						Become AI enabled Product Owner
URL:https://bestbrainsacademy.com/course/mastering-ai-for-product-owners/
LOCATION:BestBrains Academy\, Prinsessegade 29A\, 2nd floor\, Copenhagen\, 1422\, Denmark
CATEGORIES:APO,Copenhagen
ATTACH;FMTTYPE=image/png:https://bestbrainsacademy.com/wp-content/uploads/2023/10/Design-uden-navn.png
END:VEVENT
END:VCALENDAR