BEGIN:VCALENDAR
VERSION:2.0
PRODID:-//BestBrains Academy - SAFe training and Agile workshops - ECPv6.15.11//NONSGML v1.0//EN
CALSCALE:GREGORIAN
METHOD:PUBLISH
X-WR-CALNAME:BestBrains Academy - SAFe training and Agile workshops
X-ORIGINAL-URL:https://bestbrainsacademy.com
X-WR-CALDESC:Events for BestBrains Academy - SAFe training and Agile workshops
REFRESH-INTERVAL;VALUE=DURATION:PT1H
X-Robots-Tag:noindex
X-PUBLISHED-TTL:PT1H
BEGIN:VTIMEZONE
TZID:Atlantic/Azores
BEGIN:DAYLIGHT
TZOFFSETFROM:-0100
TZOFFSETTO:+0000
TZNAME:+00
DTSTART:20180325T010000
END:DAYLIGHT
BEGIN:STANDARD
TZOFFSETFROM:+0000
TZOFFSETTO:-0100
TZNAME:-01
DTSTART:20181028T010000
END:STANDARD
BEGIN:DAYLIGHT
TZOFFSETFROM:-0100
TZOFFSETTO:+0000
TZNAME:+00
DTSTART:20190331T010000
END:DAYLIGHT
BEGIN:STANDARD
TZOFFSETFROM:+0000
TZOFFSETTO:-0100
TZNAME:-01
DTSTART:20191027T010000
END:STANDARD
BEGIN:DAYLIGHT
TZOFFSETFROM:-0100
TZOFFSETTO:+0000
TZNAME:+00
DTSTART:20200329T010000
END:DAYLIGHT
BEGIN:STANDARD
TZOFFSETFROM:+0000
TZOFFSETTO:-0100
TZNAME:-01
DTSTART:20201025T010000
END:STANDARD
END:VTIMEZONE
BEGIN:VTIMEZONE
TZID:Europe/Copenhagen
BEGIN:DAYLIGHT
TZOFFSETFROM:+0100
TZOFFSETTO:+0200
TZNAME:CEST
DTSTART:20180325T010000
END:DAYLIGHT
BEGIN:STANDARD
TZOFFSETFROM:+0200
TZOFFSETTO:+0100
TZNAME:CET
DTSTART:20181028T010000
END:STANDARD
BEGIN:DAYLIGHT
TZOFFSETFROM:+0100
TZOFFSETTO:+0200
TZNAME:CEST
DTSTART:20190331T010000
END:DAYLIGHT
BEGIN:STANDARD
TZOFFSETFROM:+0200
TZOFFSETTO:+0100
TZNAME:CET
DTSTART:20191027T010000
END:STANDARD
BEGIN:DAYLIGHT
TZOFFSETFROM:+0100
TZOFFSETTO:+0200
TZNAME:CEST
DTSTART:20200329T010000
END:DAYLIGHT
BEGIN:STANDARD
TZOFFSETFROM:+0200
TZOFFSETTO:+0100
TZNAME:CET
DTSTART:20201025T010000
END:STANDARD
END:VTIMEZONE
BEGIN:VEVENT
DTSTART;TZID=Atlantic/Azores:20191114T090000
DTEND;TZID=Atlantic/Azores:20191115T170000
DTSTAMP:20260423T125931
CREATED:20180502T165328Z
LAST-MODIFIED:20191030T092928Z
UID:26709-1573722000-1573837200@bestbrainsacademy.com
SUMMARY:Master Class w. Don Reinertsen - Achieving Product Development Flow - Stockholm
DESCRIPTION:Master Class - Achieving Product Development Flow w/ Don Reinertsen - Stockholm\n						Learn how to manage and orchestrate development projects following advanced Lean principles.\n						\n						Click to buy seat\n					\n				\n					\n					\n					\n					\n				\n				\n				\n				\n			\n				\n				\n			\n				\n				\n				\n				\n				\n				\n				\n				\n				\n				\n				\n				\n				\n				\n				\n				\n				\n				Summary\nAn intensive two-day workshop on practical\, economically justifiable approaches for improving flow in product development. \nInitial attempts to apply lean methods in product development simply copied behaviours that worked in manufacturing. This doesn’t work — development is a profoundly different domain. Eliminating all variability works in manufacturing; in product development it eliminates all innovation. Achieving Product Development Flow takes a different\, science-based\, approach. It relies on understanding mechanisms of action and quantifying trade-offs. It uses economics\, statistics\, queuing theory\, and concepts from telecommunication network design. \nThis workshop covers the ideas contained in Don Reinertsen’s bestselling book\, “The Principles of Product Development Flow”. It focuses on proven leverage points and specific practical methods that have helped participants achieve as much as a 90 % reduction in cycle time. \nIt is fundamentally different from other workshops in its intense focus on quantification\, economic justification\, and the use of a science-based approach for applying lean. \n			\n			\n				\n				\n				\n				\n			\n				\n				\n				\n				\n				\n				\n				\n				\n				\n				\n				Learning goals\n\nCalculate and use “Cost of Delay” as the most important key figure in your development process\nFind\, monitor and control bottlenecks in the process\nShortening lead-time through systematically reducing batch sizes\nCreate room for innovation\, by allowing variation in the process\nand much much more...\n\n			\n			\n				\n				\n				\n				\n				\n				\n				\n				\n				\n				WHO SHOULD ATTEND\nThis program is designed for managers who currently play a role in product development. It will be particularly useful to companies that are reaching the point of diminishing returns using conventional approaches to product development and lean product development. It is preferred that participants have a basic understanding of lean techniques and at least 5 years of experience in product development. Attendees should bring a calculator\, since the course will involve some light calculations. The techniques covered are general methods of analysis rather than industry specific rules. Just the way physics applies to both large objects and small ones\, the methods used in this course can be applied in a wide variety of industries. \n			\n			\n				\n				\n				\n				\n			\n				\n				\n				\n				\n				\n				\n				\n				\n				\n				\n				PRACTICAL INFO\n \n\n			\n			\n				\n				\n				\n				\n				\n				Register here - Don Reinertsen\n			\n			\n				\n				\n				\n				\n			\n				\n				\n				\n				\n				\n				\n			\n				\n				\n				\n				\n			\n				\n				\n				\n				\n				\n				\n				\n				\n				\n				\n				\n\nINSTRUCTOR\n\n\nDon Reinertsen has worked with leading product development organizations for over 30 years\, and taught executive courses at Caltech for 14 years. \nHe is the author/co-author of three best-selling books on product development. His latest awarding winning book\, 'The Principles of Product Development Flow: Second Generation Lean Product Development'\, has been praised as\, “… quite simply the most advanced product development book you can buy.” \n\n\n\n\n			\n			\n				\n				\n				\n				\n				\n				\n				\n				\n				\n				\n			\n				\n				\n				\n				\n				Don ReinertsenPresident of Reinertsen & Associates\, a consulting firm specialized in the management of product developmentendal \n			\n			\n				\n				\n				\n				\n			\n				\n				\n				\n				\n				\n				\n				\n				\n				\n				\n				\n				\n					\n\n\n\n"Very good\, but also quite theoretical.  Good "Scientific" fundament for lean/agile practices. Good for economically minded people (CFO\, CEO\, etc.)" \n\n\n\n\n					Dirk Bucka-Lassen\n					Widex \n				\n			\n			\n				\n				\n				\n				\n				\n				\n				\n				\n				\n				\n				\n					\n\n\n"Go! If you have been doing agile for a while ... it is a good way to put your everyday praxis in perspective." \n\n\n\n					Rasmus Thorup Windfeldt\n					Topdanmark \n				\n			\n			\n				\n				\n				\n				\n			\n				\n				\n				\n				\n				\n				\n				\n				\n				\n				\n				Looking for more than just another Agile class?\nThen you’ve found the right place. We want to take Agile training to the next level and believe that effective learning should be just as fun\, interactive and inspiring as serious business and hard work. We’ve created a space\, which is designed to meet the high expectations from our driven\, creative trainers and consultants\, and for you to feel comfortable\, almost like home. \nWatch this video for more information. \n			\n			\n				\n				\n				\n				\n			\n				\n				\n				\n				\n				\n				\n				\n				\n				\n				\n				\n				\n			\n			\n				\n				\n				\n				\n				\n				\n				\n				\n				\n				\n				\n					Thank you for being such wonderful hosts – absolutely fantastic environment (+ delicious food) to support the learnings.- Sending my husband to the course asap! \n					Mia Golan\n					Nordea \n				\n			\n			\n				\n				\n				\n				\n			\n				\n				\n			\n				\n				\n				\n				\n				\n				\n				\n				\n				\n				\n				\n				\n					\n					\n						\n						\n						Achieving Product Development Flow - Learn how to manage and orchestrate development projects following advanced Lean principles\n						\n						Click to buy seat
URL:https://bestbrainsacademy.com/course/don_reinertsen_product_development_stockholm_nov2019/
LOCATION:Stockholm – Exact address will be announced soon\, Sweden
CATEGORIES:DonR,Stockholm
ATTACH;FMTTYPE=image/jpeg:https://bestbrainsacademy.com/wp-content/uploads/2018/05/donald-R_hjemmeside-e1528706973117.jpg
END:VEVENT
BEGIN:VEVENT
DTSTART;TZID=Europe/Copenhagen:20191111T173000
DTEND;TZID=Europe/Copenhagen:20191111T190000
DTSTAMP:20260423T125931
CREATED:20191029T072011Z
LAST-MODIFIED:20191104T142220Z
UID:32953-1573493400-1573498800@bestbrainsacademy.com
SUMMARY:An introduction to Second Generation Lean Product Development w. Don Reinertsen
DESCRIPTION:Free event: An Introduction to  Second Generation Lean Product Development\n						A talk by Don Reinertsen. Don is the author behind the awarding winning book\, The Principles of Product Development Flow: Second Generation Lean Product Development\n						\n						Sign up!\n					\n				\n					\n				\n				\n				\n			\n				\n				\n			\n				\n				\n				\n				\n				\n				\n				\n				\n				\n				\n				\n				\n				\n				\n				\n				\n				\n				 \nLean methods have been used for over 50 years in production processes\, producing huge economic benefits. They are based on many principles that are transferable to product development. In fact\, these methods are the only practical way to simultaneously achieve large improvements in the speed\, quality\, and cost of product development. However\, using lean methods in product development requires some insight. Certain methods that work in Lean Manufacturing are toxic in a product development environment. For example\, if we try to eliminate all variability we will\, as an unfortunate side effect\, eliminate all innovation.\n \n\nThis talk will introduce you to the science and some of the practical methods of Lean Product Development. It draws upon ideas from a variety of domains including queueing theory\, telecommunication network design\, computer operating systems\, and lean manufacturing. It will introduce you some key lean methods such as economic models\, queue management\, batch size reduction\, WIP constraints\, and cadence. It is intended to provide a quick exposure to some of the most important ideas of second generation lean product development. \n\n			\n			\n				\n				\n				\n				\n				\n				\n				\n				\n				\n				\n			\n			\n				\n				\n				\n				\n			\n				\n				\n				\n				\n				\n				\n			\n				\n				\n				\n				\n			\n				\n				\n				\n				\n				\n				\n				\n				\n				\n				\n				\n			\n				\n				\n				\n				\n				Don ReinertsenOwner\, Reinertsen & Associates \n			\n			\n				\n				\n				\n				\n				\n				\n				\n				\n				\n				Don Reinertsen is the President of Reinertsen & Associates\, a consulting firm specialized in the management of product development. He has worked with leading product development organizations for over 30 years\, and taught executive courses at Caltech for 14 years. He is the author/co-author of three best-selling books on product development\, and is considered one of the leading thinkers in the field of lean product development. His latest awarding winning book\, The Principles of Product Development Flow: Second Generation Lean Product Development\, has been praised as\, “… quite simply the most advanced product development book you can buy.” \n			\n			\n				\n				\n				\n				\n			\n				\n				\n				\n				\n				\n				\n			\n				\n				\n				\n				\n			\n				\n				\n				\n				\n				\n				\n				\n				\n				\n				\n				PRACTICAL INFO
URL:https://bestbrainsacademy.com/course/an-introduction-to-second-generation-lean-product-development-w-don-reinertsen/
LOCATION:BestBrains Academy\, Prinsessegade 29A\, 2nd floor\, Copenhagen\, 1422\, Denmark
CATEGORIES:DonR,free-event
ATTACH;FMTTYPE=image/jpeg:https://bestbrainsacademy.com/wp-content/uploads/2018/06/don_reinert_bestbrains.jpg
ORGANIZER;CN="BestBrains Academy P/S":MAILTO:event@bbacademy.dk
END:VEVENT
BEGIN:VEVENT
DTSTART;TZID=Atlantic/Azores:20191111T090000
DTEND;TZID=Atlantic/Azores:20191112T170000
DTSTAMP:20260423T125931
CREATED:20180502T165328Z
LAST-MODIFIED:20191031T090724Z
UID:26654-1573462800-1573578000@bestbrainsacademy.com
SUMMARY:Master Class w. Don Reinertsen - Achieving Product Development Flow - Copenhagen
DESCRIPTION:Master Class - Achieving Product Development Flow w/ Don Reinertsen - Copenhagen\n						Learn how to manage and orchestrate development projects following advanced Lean principles.\n						\n						Click here to buy seat\n					\n				\n					\n					\n					\n					\n				\n				\n				\n				\n			\n				\n				\n			\n				\n				\n				\n				\n				\n				\n				\n				\n				\n				\n				\n				\n				\n				\n				\n				\n				\n				Summary\nAn intensive two-day workshop on practical\, economically justifiable approaches for improving flow in product development. \nInitial attempts to apply lean methods in product development simply copied behaviours that worked in manufacturing. This doesn’t work — development is a profoundly different domain. Eliminating all variability works in manufacturing; in product development it eliminates all innovation. Achieving Product Development Flow takes a different\, science-based\, approach. It relies on understanding mechanisms of action and quantifying trade-offs. It uses economics\, statistics\, queuing theory\, and concepts from telecommunication network design. \nThis workshop covers the ideas contained in Don Reinertsen’s bestselling book\, “The Principles of Product Development Flow”. It focuses on proven leverage points and specific practical methods that have helped participants achieve as much as a 90 % reduction in cycle time. \nIt is fundamentally different from other workshops in its intense focus on quantification\, economic justification\, and the use of a science-based approach for applying lean. \n			\n			\n				\n				\n				\n				\n			\n				\n				\n				\n				\n				\n				\n				\n				\n				\n				\n				Learning goals\n\nCalculate and use “Cost of Delay” as the most important key figure in your development process\nFind\, monitor and control bottlenecks in the process\nShortening lead-time through systematically reducing batch sizes\nCreate room for innovation\, by allowing variation in the process\nand much much more...\n\n			\n			\n				\n				\n				\n				\n				\n				\n				\n				\n				\n				WHO SHOULD ATTEND\nThis program is designed for managers who currently play a role in product development. It will be particularly useful to companies that are reaching the point of diminishing returns using conventional approaches to product development and lean product development. It is preferred that participants have a basic understanding of lean techniques and at least 5 years of experience in product development. Attendees should bring a calculator\, since the course will involve some light calculations. The techniques covered are general methods of analysis rather than industry specific rules. Just the way physics applies to both large objects and small ones\, the methods used in this course can be applied in a wide variety of industries. \n			\n			\n				\n				\n				\n				\n			\n				\n				\n				\n				\n				\n				\n				\n				\n				\n				\n				PRACTICAL INFO\n \n\n			\n			\n				\n				\n				\n				\n				\n				\n				\n				\n				\n				  \n  \n \n\nIf you register for a class be aware that VAT will be added to the price above. EU delegates may recover the VAT depending on their circumstances.\nFor potential attendees outside Denmark; Please reach out if you have any questions regarding the additional VAT costs at checkout. Email: event@bbacademy.dk \n\n \n\n			\n			\n				\n				\n				\n				\n			\n				\n				\n				\n				\n				\n				\n			\n				\n				\n				\n				\n			\n				\n				\n				\n				\n				\n				\n				\n				\n				\n				\n				\n\nINSTRUCTOR\n\n\nDon Reinertsen has worked with leading product development organizations for over 30 years\, and taught executive courses at Caltech for 14 years. \nHe is the author/co-author of three best-selling books on product development. His latest awarding winning book\, 'The Principles of Product Development Flow: Second Generation Lean Product Development'\, has been praised as\, “… quite simply the most advanced product development book you can buy.” \n\n\n\n\n			\n			\n				\n				\n				\n				\n				\n				\n				\n				\n				\n				\n			\n				\n				\n				\n				\n				Don ReinertsenPresident of Reinertsen & Associates\, a consulting firm specialized in the management of product developmentendal \n			\n			\n				\n				\n				\n				\n			\n				\n				\n				\n				\n				\n				\n				\n				\n				\n				\n				\n				\n					\n\n\n\n"Very good\, but also quite theoretical.  Good "Scientific" fundament for lean/agile practices. Good for economically minded people (CFO\, CEO\, etc.)" \n\n\n\n\n					Dirk Bucka-Lassen\n					Widex \n				\n			\n			\n				\n				\n				\n				\n				\n				\n				\n				\n				\n				\n				\n					\n\n\n"Go! If you have been doing agile for a while ... it is a good way to put your everyday praxis in perspective." \n\n\n\n					Rasmus Thorup Windfeldt\n					Topdanmark \n				\n			\n			\n				\n				\n				\n				\n			\n				\n				\n				\n				\n				\n				\n				\n				\n				\n				\n				Looking for more than just another Agile class?\nThen you’ve found the right place. We want to take Agile training to the next level and believe that effective learning should be just as fun\, interactive and inspiring as serious business and hard work. We’ve created a space\, which is designed to meet the high expectations from our driven\, creative trainers and consultants\, and for you to feel comfortable\, almost like home. \nWatch this video for more information. \n			\n			\n				\n				\n				\n				\n			\n				\n				\n				\n				\n				\n				\n				\n				\n				\n				\n				\n				\n			\n			\n				\n				\n				\n				\n				\n				\n				\n				\n				\n				\n				\n					Thank you for being such wonderful hosts – absolutely fantastic environment (+ delicious food) to support the learnings.- Sending my husband to the course asap! \n					Mia Golan\n					Nordea \n				\n			\n			\n				\n				\n				\n				\n			\n				\n				\n			\n				\n				\n				\n				\n				\n				\n				\n				\n				\n				\n				\n				\n					\n					\n						\n						\n						Achieving Product Development Flow - Learn how to manage and orchestrate development projects following advanced Lean principles\n						\n						Click to buy seat
URL:https://bestbrainsacademy.com/course/don_reinertsen_product_development_copenhagen_2019_dk/
LOCATION:BestBrains Academy\, Prinsessegade 29A\, 2nd floor\, Copenhagen\, 1422\, Denmark
CATEGORIES:Copenhagen,DonR
ATTACH;FMTTYPE=image/jpeg:https://bestbrainsacademy.com/wp-content/uploads/2018/05/donald-R_hjemmeside-e1528706973117.jpg
END:VEVENT
END:VCALENDAR