BEGIN:VCALENDAR
VERSION:2.0
PRODID:-//BestBrains Academy - SAFe training and Agile workshops - ECPv6.15.11//NONSGML v1.0//EN
CALSCALE:GREGORIAN
METHOD:PUBLISH
X-WR-CALNAME:BestBrains Academy - SAFe training and Agile workshops
X-ORIGINAL-URL:https://bestbrainsacademy.com
X-WR-CALDESC:Events for BestBrains Academy - SAFe training and Agile workshops
REFRESH-INTERVAL;VALUE=DURATION:PT1H
X-Robots-Tag:noindex
X-PUBLISHED-TTL:PT1H
BEGIN:VTIMEZONE
TZID:Atlantic/Azores
BEGIN:DAYLIGHT
TZOFFSETFROM:-0100
TZOFFSETTO:+0000
TZNAME:+00
DTSTART:20240331T010000
END:DAYLIGHT
BEGIN:STANDARD
TZOFFSETFROM:+0000
TZOFFSETTO:-0100
TZNAME:-01
DTSTART:20241027T010000
END:STANDARD
BEGIN:DAYLIGHT
TZOFFSETFROM:-0100
TZOFFSETTO:+0000
TZNAME:+00
DTSTART:20250330T010000
END:DAYLIGHT
BEGIN:STANDARD
TZOFFSETFROM:+0000
TZOFFSETTO:-0100
TZNAME:-01
DTSTART:20251026T010000
END:STANDARD
BEGIN:DAYLIGHT
TZOFFSETFROM:-0100
TZOFFSETTO:+0000
TZNAME:+00
DTSTART:20260329T010000
END:DAYLIGHT
BEGIN:STANDARD
TZOFFSETFROM:+0000
TZOFFSETTO:-0100
TZNAME:-01
DTSTART:20261025T010000
END:STANDARD
END:VTIMEZONE
BEGIN:VTIMEZONE
TZID:Europe/Copenhagen
BEGIN:DAYLIGHT
TZOFFSETFROM:+0100
TZOFFSETTO:+0200
TZNAME:CEST
DTSTART:20240331T010000
END:DAYLIGHT
BEGIN:STANDARD
TZOFFSETFROM:+0200
TZOFFSETTO:+0100
TZNAME:CET
DTSTART:20241027T010000
END:STANDARD
BEGIN:DAYLIGHT
TZOFFSETFROM:+0100
TZOFFSETTO:+0200
TZNAME:CEST
DTSTART:20250330T010000
END:DAYLIGHT
BEGIN:STANDARD
TZOFFSETFROM:+0200
TZOFFSETTO:+0100
TZNAME:CET
DTSTART:20251026T010000
END:STANDARD
BEGIN:DAYLIGHT
TZOFFSETFROM:+0100
TZOFFSETTO:+0200
TZNAME:CEST
DTSTART:20260329T010000
END:DAYLIGHT
BEGIN:STANDARD
TZOFFSETFROM:+0200
TZOFFSETTO:+0100
TZNAME:CET
DTSTART:20261025T010000
END:STANDARD
END:VTIMEZONE
BEGIN:VEVENT
DTSTART;TZID=Atlantic/Azores:20250825T083000
DTEND;TZID=Atlantic/Azores:20250827T170000
DTSTAMP:20260420T004447
CREATED:20250627T170526Z
LAST-MODIFIED:20250804T144417Z
UID:45929-1756110600-1756314000@bestbrainsacademy.com
SUMMARY:SAFe® 6.0 Release Train Engineer (RTE) (August 25-27\, 2025)
DESCRIPTION:SAFe® 6.0 Release Train Engineer (RTE) \n						Gain an in-depth understanding of the role and responsibilities of a Release Train Engineer (RTE) in context of an enterprise using SAFe\n						\n						Click here to buy seat\n					\n				\n					\n				\n				\n				\n			\n				\n				\n			\n				\n				\n				\n				\n				\n				\n				\n				\n				\n				\n				\n				\n				\n				\n				\n				\n				\n				Summary\nFacilitate and enable end-to-end value delivery through Agile Release Trains (ARTs)—and learn how to build a high-performing ART by becoming a servant leader and coach—when you become a SAFe® 6 Release Train Engineer (RTE).\nDuring this three-day course\, gain an in-depth understanding of the role and responsibilities of an RTE in the SAFe enterprise. Through experiential learning\, examine the RTE role in a Lean-Agile transformation. Learn how to facilitate ART processes and execution\, coach leaders\, teams\, and Scrum Masters in new processes and mindsets. Explore how to prepare\, plan\, and execute a Program Increment (PI) planning event\, the primary enabler of alignment throughout all levels of a SAFe organization. \nYou will learn: \n\nhow to facilitate the ART planning and execution\nfacilitate as well as coaching leaders\, teams\, and Scrum Masters to be an effective member of an ART\nhow to prepare\, plan and execute the critical Program Increment (PI) planning event\, the primary enabler of alignment and value delivery throughout all levels of an organization using SAFe\n\n			\n			\n				\n				\n				\n				\n				\n				\n				\n				\n				\n				Why BestBrains Academy\n\nInstructors with many years of both teaching and practical experience from the field\nWe deliver the full of range of SAFe courses\nInteractive format with room for reflections\, questions and War Stories\nHomework before class to increase the benefits of the training\n\n			\n			\n				\n				\n				\n				\n			\n				\n				\n				\n				\n				\n				\n				\n				\n				\n				\n				LEARNING GOALS\n\nApply Lean-Agile knowledge and tools to execute and release value\nAssist with program and large solution execution\nFoster relentless improvement\nBuild a high-performing ART by becoming a servant leader and coach\nDevelop an action plan to continue the learning journey\n\n			\n			\n				\n				\n				\n				\n				Any questions? Just ask\n				\n				\n				\n					\n						\n				\n				\n				\n				\n				Name\n				\n			 \n				\n				\n				\n				\n				Email Address\n				\n			 \n				\n				\n				\n				\n				Ask us about the SAFe® RTE online course \n				\n			 \n						\n						\n							\n							Send message\n						\n						\n					\n				\n			\n			\n			\n				\n				\n				\n				\n				\n				\n				\n				\n				\n				WHO SHOULD ATTEND?\n\nRTEs and Solution Train Engineers (STEs)\nProgram and project managers\nScrum Masters\nLeaders and managers\nAgile coaches\nSAFe Program Consultants (SPCs)\n\n			\n				\n				\n				\n				\n				PREREQUISITES:\nEveryone is welcome in class\, but we recommend that you have one of these prerequisites if you want to get the most out of the class and also to help you pass the SAFe® Release Train Engineer (RTE) certification exam: \n\nHold at least one current SAFe certification\nAnd/or have launched or participated in at least one ART and one PI\n\n			\n			\n				\n				\n				\n				\n			\n				\n				\n				\n				\n				\n				\n				\n				\n				\n				\n				SAFe® Release Train Engineer Certification\nAttendees who pass the certification exam will receive: \n\nSAFe Release Train Engineer certificate\nA SAFe 6 Release Train Engineer digital badge to promote your accomplishment online\nA SAFe Release Train Engineer certification usage guide with RTE certification marks\nSPCs who are certified RTEs can apply and qualify to teach the RTE class and certify RTEs\n\n			\n				\n				\n				\n				\n				Annual renewals\n\nOne-year membership to the SAFe Community Platform.  This means you will have access to your learning plan and Community Platform assets for an entire year\, regardless if you take and pass your certification exam. HOWEVER - If you are taking your second course or more\, your membership will not be extended.\n\nRenewal fee is $295 \n\nRenewal fee for the RTE certification is included in SPC renewal (if your SPC certification is up-to-date)\n\n			\n			\n				\n				\n				\n				\n				\n			\n				\n				\n				\n				\n			\n				\n				\n				\n				\n				\n				\n				\n				\n				\n				\n				PRACTICAL INFO\n \n\n			\n			\n				\n				\n				\n				\n				\n				\n				\n				\n				\n				  \n  \n\n	\n		Tickets	\n	\n	\n	\n	\n	\n	\n		The numbers below include tickets for this event already in your cart. Clicking "Get Tickets" will allow you to edit any existing attendee information as well as change ticket quantities.	\n\n\n\n	\n	\n		AI Practitioner - Online (Oct 7-8\, 2026)\n	\n	\n		\n		\n				\n					kr.\n					7.000\,00\n				\n						\n\n			\n			Unlimited	\n		\n\n			\n			\n	Decrease ticket quantity for AI Practitioner - Online (Oct 7-8\, 2026)\n	-\n		\n	\n		Quantity	\n	\n\n		\n	Increase ticket quantity for AI Practitioner - Online (Oct 7-8\, 2026)\n	+\n		\n	\n				\n\n		\n	\n		Quantity:	\n	0\n\n	\n	\n			\n	Get Tickets\n	\n\n	\n		\n	\n\n		\n	\n\n		\n	\n\n	\n\n\n\n\n\n	\n\n \n\nIf you register for a class be aware that VAT will be added to the price above. EU delegates may recover the VAT depending on their circumstances.\nFor potential attendees outside Denmark; Please reach out if you have any questions regarding the additional VAT costs at checkout. Email: event@bbacademy.dk \n\n \n\n			\n			\n				\n				\n				\n				\n			\n				\n				\n				\n				\n				\n				\n				\n				\n				\n				\n				Instructor\nHeidi Kristensen blends technical expertise and leadership to scale agile practices while maintaining core values and driving business agility \nHeidi was one of the first to introduce scrum in the banking industry almost two decades ago. Followed by acknowledging the need for scaling agile and doing so without compromising the agile values.With a technical background combined with a vast amount of leadership experience in Large Enterprises\, Heidi has an eye for what it takes to achieve business agility. How to implement the changes required to help Businesses succeed and People to thrive. \n			\n			\n				\n				\n				\n				\n				\n				\n				\n				\n				\n				\n			\n				\n				\n				\n				\n				Heidi Hedegaard Kristensen\nBusiness Agility Coach and SAFe® Program Consultant (SPC) \n			\n			\n				\n				\n				\n				\n			\n				\n				\n				\n				\n				\n				\n				\n				\n				\n				\n				\n				\n					"I liked training with Heidi\, she is very open and can bring both knowledge and positive energy “ \n					Maria Bakshinskayte\n					Junior Consultent\, Monsterlab \n				\n			\n			\n				\n				\n				\n				\n				\n				\n				\n				\n				\n				\n				\n					"Heidi explains really well\, keeps participants engaged and motivated\, shares a lot from her own experience\, and is just a very nice person 🙂 ” \n					Mette Johansen\n					Danske Bank \n				\n			\n			\n				\n				\n				\n				\n			\n				\n				\n				\n				\n				\n				\n				\n				\n				\n				\n				\n				\n			\n			\n				\n				\n				\n				\n				\n				\n				\n				\n				\n				\n				\n					Thank you for being such wonderful hosts – absolutely fantastic environment (+ delicious food) to support the learnings.- Sending my husband to the course asap! \n					Mia Golan\n					Nordea \n				\n			\n			\n				\n				\n				\n				\n			\n				\n				\n				\n				\n				\n				\n				\n				\n				\n				\n				If you are interested in this course\, we suggest you to look into these articles as well: \n			\n					\n					\n					\n					\n					\n					\n						\n			\n\n				\n														\n													Agile kontrakter\n											\n				\n					Agile kontrakter giver kunde og leverandør et økonomisk incitament til at samarbejde og nå effektivt i mål\, og de stiller en række krav til begge parter. \n			\n			\n				\n			\n\n				\n														\n													Videocast Pilot Episode – Broken Meetings\n											\n				\n					How to make meetings more joyfull\, shorter and more productive.\nBBA Partner\, Bent Jensen and House catonist\, Yuri Malishenko discuss the concept of broken meetings in this podcast with visual explanation.  \n			\n			\n				\n			\n\n				\n														\n													How to improve your meetings as a Scrum Master\n											\n				\n					People don’t hate meetings. They hate bad meetings.\nIf you have an influence on your meetings\, maybe if you are even responsible for some of them\, read on and get some advice on how to make your next meeting more productive.  \n			\n			\n				\n					\n					 \n				\n			\n				\n				\n				\n				\n			\n				\n				\n			\n				\n				\n				\n				\n				\n				\n				\n				\n				\n				\n				\n				\n					\n					\n						\n						\n						3- Day training session - SAFe® Release Train Engineer with Tomas Eilsø - Copenhagen\n						\n						Click to buy seat
URL:https://bestbrainsacademy.com/course/safe-6-0-release-train-engineer-rte/
LOCATION:Nomad Workspace\, Blegdamsvej 6\, København N\, 2200\, Denmark
CATEGORIES:Copenhagen,RTE,safe-courses
ATTACH;FMTTYPE=image/png:https://bestbrainsacademy.com/wp-content/uploads/2023/11/RTE-webiste-eng.png
END:VEVENT
BEGIN:VEVENT
DTSTART;TZID=Europe/Copenhagen:20250828T160000
DTEND;TZID=Europe/Copenhagen:20250828T180000
DTSTAMP:20260420T004447
CREATED:20241203T112931Z
LAST-MODIFIED:20250807T084231Z
UID:44887-1756396800-1756404000@bestbrainsacademy.com
SUMMARY:Free event - Learn AI with LEGO®
DESCRIPTION:Learn AI with LEGO\n						Join us and try our LEGO game—a fun and tangible way to learn about AI and workflow\n						\n						Yes\, I would like to attend!\n					\n				\n					\n				\n				\n				\n			\n				\n				\n			\n				\n				\n				\n				\n				\n				\n				\n				\n				\n				\n				\n				\n				\n				\n				\n				\n				\n				Discover the exciting world of Artificial Intelligence through the playful and engaging medium of Lego! This workshop is designed to make AI concepts accessible and enjoyable for all skill levels. Using Lego bricks\, you’ll build and simulate AI models\, exploring everything from machine learning basics to neural networks and decision-making algorithms. \nWhat to Expect:\n\nInteractive Learning: Dive into AI principles through hands-on exercises\, creating tangible models to visualize abstract concepts.\nCreative Challenges: Solve real-world problems using Lego to design and train AI-inspired systems.\nCollaborative Fun: Work in teams to bring AI scenarios to life\, fostering teamwork and innovative thinking.\n\nWhether you’re an AI beginner or looking to enhance your understanding of emerging technologies\, this workshop will leave you inspired\, informed\, and eager to explore more. \nWho Should Attend:\nTech enthusiasts\, educators\, innovators\, and anyone curious about how AI works and its impact on our world. No prior experience required—just bring your creativity and curiosity! \nUnleash your inner builder and learn the fundamentals of AI\, one Lego brick at a time. \n \n			\n			\n				\n				\n				\n				\n			\n				\n				\n				\n				\n				\n				\n			\n				\n				\n				\n				\n			\n				\n				\n				\n				\n				\n				\n				\n				\n				\n				\n				PRACTICAL INFO\n \n\n			\n			\n				\n				\n				\n				\n				\n				\n				\n				\n				\n				  \n\n			\n			\n				\n				\n				\n				\n			\n				\n				\n				\n				\n				\n				\n			\n				\n				\n				\n				\n			\n				\n				\n				\n				\n				\n				\n				\n				\n				\n				\n				Bent Jensen is a pioneer in applying agile methods in Denmark and has been leading agile teams since 2000.   \nFor the last 10 years Bent has been coaching and mentoring leaders and organizations to achieve the benefits of lean and agile thinking and methods\, with clients in Denmark and internationally. He have assisted a large number and companies with transformation programmes\, and supported Enterprises in their transformation to an Agile and Lean approach. Bent has always been focused on the intersect between self-organization and management\, between efficient development and innovation and how to push the methods to their limits. \n			\n			\n				\n				\n				\n				\n				\n				\n				\n				\n				\n				\n			\n				\n				\n				\n				\n				Bent Jensen Agil coach and SAFe consultant (SPC5). Partner\, BestBrains Academy P/S \n			\n			\n				\n				\n				\n				\n			\n				\n				\n				\n				\n				\n				\n				\n				\n				\n				\n				Heidi Kristensen blends technical expertise and leadership to scale agile practices while maintaining core values and driving business agility \nHeidi was one of the first to introduce scrum in the banking industry almost two decades ago. Followed by acknowledging the need for scaling agile and doing so without compromising the agile values.\nWith a technical background combined with a vast amount of leadership experience in Large Enterprises\, Heidi has an eye for what it takes to achieve business agility. How to implement the changes required to help Businesses succeed and People to thrive.\n			\n			\n				\n				\n				\n				\n				\n				\n				\n				\n				\n				\n			\n				\n				\n				\n				\n				Heidi Hedegaard Kristensen\nBusiness Agility Coach and SAFe® Program Consultant (SPC)\n			\n			\n				\n				\n				\n				\n			\n				\n				\n				\n				\n				\n				\n				\n				\n				\n				\n				Jesper Thaning has been helping organizations adopting lean and agile methods for the last 14 years.\nThe experience covers the whole journey from idea to running code through conceptualization\, prioritization\, refinement\, development\, test\, continuous integration and deployment. Jesper has trained and coached a large number of teams and organizations on how to apply agile principles to their specific situation. He has recent years focused a lot on the collaboration between business and IT-development – helping organizations to benefit from lean and agile methods through effective product ownership.\n			\n			\n				\n				\n				\n				\n				\n				\n				\n				\n				\n				\n			\n				\n				\n				\n				\n				Jesper Thaning\nAgile coach and practitioner\, SAFe consultant\, Partner in BestBrains.
URL:https://bestbrainsacademy.com/course/free-event-learn-ai-with-lego/
LOCATION:Rebel Workspace\, Dampfærgevej 27-29 5. sal\, Copenhagen\, 2100
CATEGORIES:Copenhagen,free-event
ATTACH;FMTTYPE=image/jpeg:https://bestbrainsacademy.com/wp-content/uploads/2018/06/IMG_5315.jpg
END:VEVENT
END:VCALENDAR