BEGIN:VCALENDAR
VERSION:2.0
PRODID:-//BestBrains Academy - SAFe training and Agile workshops - ECPv6.15.11//NONSGML v1.0//EN
CALSCALE:GREGORIAN
METHOD:PUBLISH
X-ORIGINAL-URL:https://bestbrainsacademy.com
X-WR-CALDESC:Events for BestBrains Academy - SAFe training and Agile workshops
REFRESH-INTERVAL;VALUE=DURATION:PT1H
X-Robots-Tag:noindex
X-PUBLISHED-TTL:PT1H
BEGIN:VTIMEZONE
TZID:Atlantic/Azores
BEGIN:DAYLIGHT
TZOFFSETFROM:-0100
TZOFFSETTO:+0000
TZNAME:+00
DTSTART:20240331T010000
END:DAYLIGHT
BEGIN:STANDARD
TZOFFSETFROM:+0000
TZOFFSETTO:-0100
TZNAME:-01
DTSTART:20241027T010000
END:STANDARD
BEGIN:DAYLIGHT
TZOFFSETFROM:-0100
TZOFFSETTO:+0000
TZNAME:+00
DTSTART:20250330T010000
END:DAYLIGHT
BEGIN:STANDARD
TZOFFSETFROM:+0000
TZOFFSETTO:-0100
TZNAME:-01
DTSTART:20251026T010000
END:STANDARD
BEGIN:DAYLIGHT
TZOFFSETFROM:-0100
TZOFFSETTO:+0000
TZNAME:+00
DTSTART:20260329T010000
END:DAYLIGHT
BEGIN:STANDARD
TZOFFSETFROM:+0000
TZOFFSETTO:-0100
TZNAME:-01
DTSTART:20261025T010000
END:STANDARD
END:VTIMEZONE
BEGIN:VEVENT
DTSTART;TZID=Atlantic/Azores:20250901T090000
DTEND;TZID=Atlantic/Azores:20250901T160000
DTSTAMP:20260422T103201
CREATED:20250415T165932Z
LAST-MODIFIED:20250619T080522Z
UID:45634-1756717200-1756742400@bestbrainsacademy.com
SUMMARY:AI-enabled Team Coach - Online (Sept 1\, 2025)
DESCRIPTION:Online: AI-enabled Team Coach\n						Enhance your coaching skills and lead AI Transformations in teams\n						\n						Yes\, I want to sign up for the course!\n					\n				\n					\n				\n				\n				\n			\n				\n				\n			\n				\n				\n				\n				\n				\n				\n				\n				\n				\n				\n				\n				\n				\n				\n				\n				\n				\n				Summary\n \nLearn how to effectively use generative AI\, such as ChatGPT and other tools\, as a Team Coach in your daily work and how to drive an AI transformation of a team.  \nWe will go beyond the immediate benefit of generative AI tools and reason about successful human and AI interaction in a team context. \nBy the end of the course\, participants will have gained valuable insights into how to utilise generative AI responsibly in their roles and support of a team. This includes how to orchestrate an AI-powered team process and lay out an execution plan. \nThis course is highly interactive and with exercises in your context as a Team Coach/Scrum Master if possible.  \n			\n			\n				\n				\n				\n				\n				\n				\n				\n				\n				\n				\n			\n				\n				\n				\n				\n				\n			\n				\n				\n				\n				\n				\n			\n			\n				\n				\n				\n				\n			\n				\n				\n				\n				\n				\n				\n			\n				\n				\n				\n				\n			\n				\n				\n				\n				\n				\n				\n				\n				\n				\n				\n				Course content\n\nEnhance your coaching skills with AI\nImprove your facilitation of meetings and workshops with AI\nExplore how AI can support your team as a team member\nPlan and execute an AI transformation within a team\n\nWe will also briefly explore principles for responsible AI and what to be aware of.  \n			\n			\n				\n				\n				\n				\n				\n				\n				\n				\n				\n				What will you get:\n\nA general understanding of generative AI tools and their possibilities of use in your context \nHow to enhance your coaching and facilitation skills with prompt engineering for Team coaches\nKnowledge of how to orchestrate an AI-powered team process\nIdeas for a Team AI transformation roadmap \n\n  \n\n			\n			\n				\n				\n				\n				\n			\n				\n				\n				\n				\n				\n				\n				\n				\n				\n				\n				PRACTICAL INFO\n \n			\n			\n				\n				\n				\n				\n				\n				\n				\n				\n				\n				\n	\n		Tickets	\n	\n	\n	\n	\n	\n	\n		The numbers below include tickets for this event already in your cart. Clicking "Get Tickets" will allow you to edit any existing attendee information as well as change ticket quantities.	\n\n\n\n	\n	\n		AI Practitioner - Online (Oct 7-8\, 2026)\n	\n	\n		\n		\n				\n					kr.\n					7.000\,00\n				\n						\n\n			\n			Unlimited	\n		\n\n			\n			\n	Decrease ticket quantity for AI Practitioner - Online (Oct 7-8\, 2026)\n	-\n		\n	\n		Quantity	\n	\n\n		\n	Increase ticket quantity for AI Practitioner - Online (Oct 7-8\, 2026)\n	+\n		\n	\n				\n\n		\n	\n		Quantity:	\n	0\n\n	\n	\n			\n	Get Tickets\n	\n\n	\n		\n	\n\n		\n	\n\n		\n	\n\n	\n\n\n\n\n\n	\n\n \n\nIf you register for a class be aware that VAT will be added to the price above. EU delegates may recover the VAT depending on their circumstances.\n\n \n			\n				\n				\n				\n				\n				Cancellation Policy\n				\nIf you need to cancel more than 30 days before the course\, feel free to find someone to take your place. If you can't find a substitute within this time frame\, we’ll refund all but 1500 DKK to cover our administrative costs.\nIf you cancel within 30 days before the workshop\, we can't provide a refund. However\, you may find a substitute.\nNo matter when you need to cancel\, if you find a substitute\, please let us know ASAP who that person is. It's up to you to take care of payment arrangements with that person.\nRegistrants who are no shows\, are not eligible for a refund and must pay the full course fee.\nBestBrains reserves the right to cancel courses 7 business days prior to the scheduled date; in this case\, our liability is limited to a full refund of the session fee.\n\n			\n			\n				\n				\n				\n				\n			\n				\n				\n				\n				\n				\n				\n			\n				\n				\n				\n				\n			\n				\n				\n				\n				\n				\n				\n				\n				\n				\n				\n				Instructor\nHeidi Kristensen blends technical expertise and leadership to scale agile practices while maintaining core values and driving business agility \nHeidi was one of the first to introduce scrum in the banking industry almost two decades ago. Followed by acknowledging the need for scaling agile and doing so without compromising the agile values.With a technical background combined with a vast amount of leadership experience in Large Enterprises\, Heidi has an eye for what it takes to achieve business agility. How to implement the changes required to help Businesses succeed and People to thrive. \n			\n			\n				\n				\n				\n				\n				\n				\n				\n				\n				\n				\n			\n				\n				\n				\n				\n				Heidi Hedegaard Kristensen\nBusiness Agility Coach and SAFe® Program Consultant (SPC) \n			\n			\n				\n				\n				\n				\n			\n				\n				\n				\n				\n				\n				\n				\n				\n				\n				\n				\n				\n					"I liked training with Heidi\, she is very open and can bring both knowledge and positive energy “ \n					Maria Bakshinskayte\n					Junior Consultent\, Monsterlab \n				\n			\n			\n				\n				\n				\n				\n				\n				\n				\n				\n				\n				\n				\n					"Heidi explains really well\, keeps participants engaged and motivated\, shares a lot from her own experience\, and is just a very nice person 🙂 ” \n					Mette Johansen\n					Danske Bank \n				\n			\n			\n				\n				\n				\n				\n			\n				\n				\n				\n				\n				\n				\n				\n				\n				\n				\n				Instructor\nJesper Thaning has been helping organizations adopting Lean and Agile methods for the last 20 years. \nThe experience covers the whole journey from idea to running code through conceptualization\, prioritization\, refinement\, development\, test\, continuous integration and deployment. Jesper has trained and coached a large number of teams and organizations on how to apply Lean and Agile principles and methodologies like Scrum\, Kanban and SAFe® to their specific situation. He has focused a lot on the collaboration between business and IT-development – helping organizations to benefit from Lean and Agile methods through effective product ownership.Generative AI is the next big thing that is going to transform how we work and as an experienced AI practitioner Jesper now applies AI in many different contexts and guides on effectively using AI within teams. \n  \n			\n			\n				\n				\n				\n				\n				\n				\n				\n				\n				\n				\n			\n				\n				\n				\n				\n				Jesper Thaning Agile trainer and advisor\, SAFe Program Consultant (SPC)\, Partner in BestBrains Academy \n			\n			\n				\n				\n				\n				\n			\n				\n				\n				\n				\n				\n				\n				\n				\n				\n				\n				\n				\n					´Jesper was good at linking things together and making the days interesting. It was a place and training that one wanted to come to.´ \n					Niels Jørgen Hansen\n					BEC \n				\n			\n			\n				\n				\n				\n				\n				\n				\n				\n				\n				\n				\n				\n					‘Jesper is extraordinary skilled\, positive and interactive instructor. This first longer training where somebody successfully was holding my attention on the high level with his Way of Working\, that was brilliant.’ \n					Dragana Spasic\n					Ericsson AB
URL:https://bestbrainsacademy.com/course/ai-enabled-team-coach-online-september-2025/
LOCATION:Online Training\, More info about course will be provided after sign-up
CATEGORIES:AI-enabled,online
ATTACH;FMTTYPE=image/png:https://bestbrainsacademy.com/wp-content/uploads/2025/02/Billeder-Website-kurser-events-16.png
END:VEVENT
BEGIN:VEVENT
DTSTART;TZID=Atlantic/Azores:20250916T083000
DTEND;TZID=Atlantic/Azores:20250917T170000
DTSTAMP:20260422T103201
CREATED:20250509T190248Z
LAST-MODIFIED:20250804T145813Z
UID:45767-1758011400-1758128400@bestbrainsacademy.com
SUMMARY:SAFe® 6.0 Product Owner/Product Manager (POPM)  (Sept 16-17\, 2025)
DESCRIPTION:SAFe® 6.0 Product Owner/Product Manager with certification\n						Enhance your PO/PM skills with an interactive course by an experienced SAFe instructor\n						\n						Click to buy seat\n					\n				\n					\n				\n				\n				\n			\n				\n				\n			\n				\n				\n				\n				\n				\n				\n				\n				\n				\n				\n				\n				\n				\n				\n				\n				\n				\n				SAFe® 6.0 Product Owner/Product Manager certification\nDevelop the skillsets needed to guide the delivery of value in a Lean enterprise—and learn about the activities\, tools\, and mechanics used to manage backlogs and programs—by becoming a SAFe® 6 Product Owner/Product Manager (POPM). During this two-day course\, attendees will gain an in-depth understanding of the Agile Release Train (ART)\, how it delivers value\, and what they can do to effectively perform their role. \nThey will also learn how to apply Lean thinking to write Epics\, break them down into Features and Stories\, plan and execute Iterations\, and plan Program Increments. Finally\, attendees learn about the Continuous Delivery Pipeline and DevOps culture\, how to effectively integrate as Product Owners and Product Managers\, and what it takes to relentlessly improve the ART. \n			\n				\n				\n				\n				\n				\nTopics covered\n\nBecoming a Product Owner/Product Manager  in the SAFe enterprise\nPreparing for PI Planning\nLeading PI Planning\nExecuting Iterations\nExecuting the Program Increment\nBecoming a Certified SAFe® Product Owner/Product Manager\n\n			\n			\n				\n				\n				\n				\n				\n				\n				\n				\n				\n				Why BestBrains Academy\n\nInstructors with many years of both teaching and practical experience from the field\nWe deliver the full of range of SAFe courses\nInteractive format with room for reflections\, questions and War Stories\nHomework before class to increase the benefits of the training\n\n			\n				\n				\n				\n				\n				\n				\n					The perfect mix of theory\, examples and exercises\, and excellent food of course! \n					Johanna Bley\n					Project Manager\, Nordea \n				\n			\n			\n				\n				\n				\n				\n			\n				\n				\n				\n				\n				\n				\n				\n				\n				\n				\n				Learning goals\nTo perform the role of a SAFe® Product Owner/Product Manager\, attendees should be able to: \n\nArticulate the Product Owner and Product Manager roles\nConnect SAFe Lean-Agile principles and values to the PO/PM roles\nDecompose Epics into Features and decompose Features into Stories\nManage Program and Team backlogs\nCollaborate with Agile teams in estimating and forecasting work\nRepresent Customer needs in Program Increment Planning\nExecute the Program Increment and deliver continuous value\n\n			\n				\n				\n				\n				\n				Who will benefit?\n\nProduct Owners\, Product Managers\, Product Line Managers\, Business Owners\, and Business Analysts\nSolution Managers\, Portfolio Managers\, Program Managers\, and members of the LACE\nEnterprise\, Solution and System Architects.\n\n			\n				\n				\n				\n				\n				Ønsker du kurser på dansk?\nVi tilbyder alle vores kurser på engelsk og enkelte kurser også på dansk. \nUndervisningen foregår på engelsk\, med mindre alle deltagere taler dansk.Vil du gerne kunne tale dansk på kurset? Så kan du ønske at komme igruppe med andre dansktalende\, så både øvelser og diskussioner kanforegå på dansk. Du vil desuden kunne stille spørgsmål på dansk tilunderviseren\, som altid er dansktalende.Angiv i kommentaren ved tilmelding\, hvis du gerne vil i en dansktalende gruppe. \n			\n			\n				\n				\n				\n				\n				\n				\n				\n				\n				\n				Prerequisites\nAll are welcome to attend the course\, regardless of experience. However\, the following prerequisites are highly recommended for those who intend to take the SAFe® 6 Product Owner/Product Manager (POPM) certification exam: \n\nAttend a Leading SAFe® course\nExperience working in a SAFe environment\nExperience with Lean\, Agile\, or other relevant certifications\n\n			\n				\n				\n				\n				\n				\n			\n				\n				\n				\n				\n				Seek financing – Finanskompetencepuljen\nSelected SAFe classes from BestBrains Academy are now available through Finanskompetencepuljen. If you are working in the Financial sector in Denmark and your employer are part of Finanskompetencepuljen\, you may be able to get the expenses covered through Finanskompetencepuljen. See our available classes here: finanskompetencepuljen \nContact finanskompetencepulje@finansforbundet.dk  to learn more about this initiative \n			\n			\n				\n				\n				\n				\n				Any questions? Just ask\n				\n				\n				\n					\n						\n				\n				\n				\n				\n				Name\n				\n			 \n				\n				\n				\n				\n				Email Address\n				\n			 \n				\n				\n				\n				\n				Ask us about the SAFe® POPM online course \n				\n			 \n						\n						\n							\n							Send message\n						\n						\n					\n				\n			\n			\n			\n				\n				\n				\n				\n			\n				\n				\n				\n				\n				\n				\n				\n				\n				\n				\n				PRACTICAL INFO\n \n\n			\n			\n				\n				\n				\n				\n				\n				\n				\n				\n				\n				  \n  \n\n	\n		Tickets	\n	\n	\n	\n	\n	\n	\n		The numbers below include tickets for this event already in your cart. Clicking "Get Tickets" will allow you to edit any existing attendee information as well as change ticket quantities.	\n\n\n\n	\n	\n		AI Practitioner - Online (Oct 7-8\, 2026)\n	\n	\n		\n		\n				\n					kr.\n					7.000\,00\n				\n						\n\n			\n			Unlimited	\n		\n\n			\n			\n	Decrease ticket quantity for AI Practitioner - Online (Oct 7-8\, 2026)\n	-\n		\n	\n		Quantity	\n	\n\n		\n	Increase ticket quantity for AI Practitioner - Online (Oct 7-8\, 2026)\n	+\n		\n	\n				\n\n		\n	\n		Quantity:	\n	0\n\n	\n	\n			\n	Get Tickets\n	\n\n	\n		\n	\n\n		\n	\n\n		\n	\n\n	\n\n\n\n\n\n	\n\n \n\nIf you register for a class be aware that VAT will be added to the price above. EU delegates may recover the VAT depending on their circumstances.\nFor potential attendees outside Denmark; Please reach out if you have any questions regarding the additional VAT costs at checkout. Email: event@bbacademy.dk \n\n \n\n			\n			\n				\n				\n				\n				\n			\n				\n				\n				\n				\n				\n				\n				\n				\n				\n				\n				Learn how to use templates for Epics\, Features\, and Stories\n			\n			\n				\n				\n				\n				\n			\n				\n				\n				\n				\n				\n				\n				\n				\n				\n				\n				\n			\n				\n				\n				\n				\n				ADDITIONAL MATERIAL TO HELP YOU AS A PRODUCT OWNER OR PRODUCT MANAGER IS INCLUDED IN THE COURSE\n			\n			\n				\n				\n				\n				\n				\n				\n				\n				\n				\n				Exercises are based on practical knowledge and many years of agile experience \n  \n\nApply Lean thinking – Write Epics and break them down into Features and Stories\nPlan Program Increments – Learn how to prepare for PI-planning with Features\nPlan and execute Iterations – Learn how to prepare for Iteration Planning with backlog refinement of Stories\n\n			\n			\n				\n				\n				\n				\n			\n				\n				\n				\n				\n				\n				\n			\n				\n				\n				\n				\n			\n				\n				\n				\n				\n				\n				\n				\n				\n				\n				\n				Instructor\nJesper Thaning has been helping organizations adopting Lean and Agile methods for the last 20 years. \nThe experience covers the whole journey from idea to running code through conceptualization\, prioritization\, refinement\, development\, test\, continuous integration and deployment. Jesper has trained and coached a large number of teams and organizations on how to apply Lean and Agile principles and methodologies like Scrum\, Kanban and SAFe® to their specific situation. He has focused a lot on the collaboration between business and IT-development – helping organizations to benefit from Lean and Agile methods through effective product ownership.Generative AI is the next big thing that is going to transform how we work and as an experienced AI practitioner Jesper now applies AI in many different contexts and guides on effectively using AI within teams. \n  \n			\n			\n				\n				\n				\n				\n				\n				\n				\n				\n				\n				\n			\n				\n				\n				\n				\n				Jesper Thaning Agile trainer and advisor\, SAFe Program Consultant (SPC)\, Partner in BestBrains Academy \n			\n			\n				\n				\n				\n				\n			\n				\n				\n				\n				\n				\n				\n				\n				\n				\n				\n				\n				\n					´Jesper was good at linking things together and making the days interesting. It was a place and training that one wanted to come to.´ \n					Niels Jørgen Hansen\n					BEC \n				\n			\n			\n				\n				\n				\n				\n				\n				\n				\n				\n				\n				\n				\n					‘Jesper is extraordinary skilled\, positive and interactive instructor. This first longer training where somebody successfully was holding my attention on the high level with his Way of Working\, that was brilliant.’ \n					Dragana Spasic\n					Ericsson AB \n				\n			\n			\n				\n				\n				\n				\n			\n				\n				\n				\n				\n				\n				\n				\n				\n				\n				\n				Looking for more than just another Agile class?\nThen you’ve found the right place. We want to take Agile training to the next level and believe that effective learning should be just as fun\, interactive and inspiring as serious business and hard work. We’ve created a space\, which is designed to meet the high expectations from our driven\, creative trainers and consultants\, and for you to feel comfortable\, almost like home. \nWatch this video for more information. \n			\n			\n				\n				\n				\n				\n			\n				\n				\n				\n				\n				\n				\n				\n				\n				\n				\n				\n				\n			\n			\n				\n				\n				\n				\n				\n				\n				\n				\n				\n				\n				\n					Thank you for being such wonderful hosts – absolutely fantastic environment (+ delicious food) to support the learnings.- Sending my husband to the course asap! \n					Mia Golan\n					Nordea \n				\n			\n			\n				\n				\n				\n				\n			\n				\n				\n			\n				\n				\n				\n				\n				\n				\n				\n				\n				\n				\n				\n				\n					\n					\n						\n						\n						SAFe 6.0 PO/PM course - Get an in-depth understanding of activities\, tools\, and mechanics used to effectively deliver value and manage backlogs and programs in a Lean-Agile enterprise\n						\n						Click here to buy seat
URL:https://bestbrainsacademy.com/course/safe-6-0-product-owner-product-manager-popm-sept/
LOCATION:Nomad Workspace\, Blegdamsvej 6\, København N\, 2200\, Denmark
CATEGORIES:Copenhagen,POPM,safe-courses,standard
ATTACH;FMTTYPE=image/png:https://bestbrainsacademy.com/wp-content/uploads/2024/03/POPM-eng-website.png
END:VEVENT
END:VCALENDAR